Workbook

Sheet Инфо
A1: Сезон | B1: 2026
A2: Число команд | B2: 5
A3: Дата генерации | B3: 18.09.2026 21:52

Sheet Площадка
A1: Тур
A2: Код Площадки
A3: Город
A4: Представитель
A6: Игровые площадки
A7: Город | B7: Место проведения | C7: Код места | D7: Ведущий | E7: Дата | F7: Время | G7: МСК | H7: День
H8: =IF(E8="","",CHOOSE(WEEKDAY(E8,2),"Понедельник","Вторник","Среда","Четверг","Пятница","Суббота","Воскресенье"))
H9: =IF(E9="","",CHOOSE(WEEKDAY(E9,2),"Понедельник","Вторник","Среда","Четверг","Пятница","Суббота","Воскресенье"))
H10: =IF(E10="","",CHOOSE(WEEKDAY(E10,2),"Понедельник","Вторник","Среда","Четверг","Пятница","Суббота","Воскресенье"))
H11: =IF(E11="","",CHOOSE(WEEKDAY(E11,2),"Понедельник","Вторник","Среда","Четверг","Пятница","Суббота","Воскресенье"))
H12: =IF(E12="","",CHOOSE(WEEKDAY(E12,2),"Понедельник","Вторник","Среда","Четверг","Пятница","Суббота","Воскресенье"))
H13: =IF(E13="","",CHOOSE(WEEKDAY(E13,2),"Понедельник","Вторник","Среда","Четверг","Пятница","Суббота","Воскресенье"))
H14: =IF(E14="","",CHOOSE(WEEKDAY(E14,2),"Понедельник","Вторник","Среда","Четверг","Пятница","Суббота","Воскресенье"))
H15: =IF(E15="","",CHOOSE(WEEKDAY(E15,2),"Понедельник","Вторник","Среда","Четверг","Пятница","Суббота","Воскресенье"))

Sheet Команды
A1: =COUNTA(A4:A8) -> 0 | C1: =" Ш:"&COUNTIF(C4:C8,"Ш")&" М:"&COUNTIF(C4:C8,"М")&" Д:"&COUNTIF(C4:C8,"Д") -> Ш:0 М:0 Д:0 | G1: =COUNTA(G4:G8) -> 0 | H1: =COUNTA(H4:H8) -> 0 | I1: =COUNTA(I4:I8) -> 0 | J1: =COUNTA(J4:J8) -> 0 | K1: =COUNTA(K4:K8) -> 0 | L1: =COUNTA(L4:L8) -> 0 | M1: =COUNTA(M4:M8) -> 0
C2: Ш М Д | G2: Игровые номера
A3: Код команды | B3: Название | C3: Группа | D3: Город | E3: Капитан | F3: Тренер | G3: Тур 1 | H3: Тур 2 | I3: Тур 3 | J3: Тур 4 | K3: Тур 5 | L3: Тур 6 | M3: Тур 7

Sheet Составы
E1: Ш C | G1: Код команды
A2: Фамилия | B2: Имя | C2: Отчество | D2: Дата рождения | E2: Статус | F2: Класс | G2: Тур 1 | H2: Тур 2 | I2: Тур 3 | J2: Тур 4 | K2: Тур 5 | L2: Тур 6 | M2: Тур 7

Sheet Таблица
A1: Заполнять только графу Номер | F1: Спорные: | G1: =IF(COUNTIF(G$4:G$8,"~?")>0,COUNTIF(G$4:G$8,"~?"),"") | H1: =IF(COUNTIF(H$4:H$8,"~?")>0,COUNTIF(H$4:H$8,"~?"),"") | I1: =IF(COUNTIF(I$4:I$8,"~?")>0,COUNTIF(I$4:I$8,"~?"),"") | J1: =IF(COUNTIF(J$4:J$8,"~?")>0,COUNTIF(J$4:J$8,"~?"),"") | K1: =IF(COUNTIF(K$4:K$8,"~?")>0,COUNTIF(K$4:K$8,"~?"),"") | L1: =IF(COUNTIF(L$4:L$8,"~?")>0,COUNTIF(L$4:L$8,"~?"),"") | M1: =IF(COUNTIF(M$4:M$8,"~?")>0,COUNTIF(M$4:M$8,"~?"),"") | N1: =IF(COUNTIF(N$4:N$8,"~?")>0,COUNTIF(N$4:N$8,"~?"),"") | ... AD1: =IF(COUNTIF(AD$4:AD$8,"~?")>0,COUNTIF(AD$4:AD$8,"~?"),"")
F2: Верно: | G2: =COUNTIF(G$4:G$8,"+") -> 0 | H2: =COUNTIF(H$4:H$8,"+") -> 0 | I2: =COUNTIF(I$4:I$8,"+") -> 0 | J2: =COUNTIF(J$4:J$8,"+") -> 0 | K2: =COUNTIF(K$4:K$8,"+") -> 0 | L2: =COUNTIF(L$4:L$8,"+") -> 0 | M2: =COUNTIF(M$4:M$8,"+") -> 0 | N2: =COUNTIF(N$4:N$8,"+") -> 0 | ... AD2: =COUNTIF(AD$4:AD$8,"+") -> 0
A3: Номер | B3: Код | C3: Название | D3: Группа | E3: Сумма | F3: Спорные | G3: 1 | H3: 2 | I3: 3 | J3: 4 | K3: 5 | L3: 6 | M3: 7 | N3: 8 | O3: 9 | P3: 10 | Q3: 11 | R3: 12 | S3: 13 | T3: 14 | U3: 15 | V3: 16 | W3: 17 | X3: 18 | Y3: 19 | Z3: 20 | AA3: 21 | AB3: 22 | AC3: 23 | AD3: 24
B4: =IF(ISBLANK($A4),"",OFFSET(Команды!A$3,MATCH($A4,OFFSET(Команды!$F$4:$F$8,0,Площадка!$B$1),0),0)) | C4: =IF(ISBLANK($A4),"",OFFSET(Команды!B$3,MATCH($A4,OFFSET(Команды!$F$4:$F$8,0,Площадка!$B$1),0),0)) | D4: =IF(ISBLANK($A4),"",OFFSET(Команды!C$3,MATCH($A4,OFFSET(Команды!$F$4:$F$8,0,Площадка!$B$1),0),0)) | E4: =IF(ISBLANK($A4),"",COUNTIF(G4:AD4,"+")) | F4: =IF(COUNTIF(G4:AD4,"~?")>0,COUNTIF(G4:AD4,"~?"),"") | G4: =IF(COUNTIF(Верно!A$3:A$7,$A4)>0,"+",IF(COUNTIF(Верно!A$3:A$7,"\"&$A4)>0,"?","")) | H4: =IF(COUNTIF(Верно!B$3:B$7,$A4)>0,"+",IF(COUNTIF(Верно!B$3:B$7,"\"&$A4)>0,"?","")) | I4: =IF(COUNTIF(Верно!C$3:C$7,$A4)>0,"+",IF(COUNTIF(Верно!C$3:C$7,"\"&$A4)>0,"?","")) | J4: =IF(COUNTIF(Верно!D$3:D$7,$A4)>0,"+",IF(COUNTIF(Верно!D$3:D$7,"\"&$A4)>0,"?","")) | K4: =IF(COUNTIF(Верно!E$3:E$7,$A4)>0,"+",IF(COUNTIF(Верно!E$3:E$7,"\"&$A4)>0,"?","")) | L4: =IF(COUNTIF(Верно!F$3:F$7,$A4)>0,"+",IF(COUNTIF(Верно!F$3:F$7,"\"&$A4)>0,"?","")) | M4: =IF(COUNTIF(Верно!G$3:G$7,$A4)>0,"+",IF(COUNTIF(Верно!G$3:G$7,"\"&$A4)>0,"?","")) | N4: =IF(COUNTIF(Верно!H$3:H$7,$A4)>0,"+",IF(COUNTIF(Верно!H$3:H$7,"\"&$A4)>0,"?","")) | ... AD4: =IF(COUNTIF(Верно!X$3:X$7,$A4)>0,"+",IF(COUNTIF(Верно!X$3:X$7,"\"&$A4)>0,"?",""))
B5: =IF(ISBLANK($A5),"",OFFSET(Команды!A$3,MATCH($A5,OFFSET(Команды!$F$4:$F$8,0,Площадка!$B$1),0),0)) | C5: =IF(ISBLANK($A5),"",OFFSET(Команды!B$3,MATCH($A5,OFFSET(Команды!$F$4:$F$8,0,Площадка!$B$1),0),0)) | D5: =IF(ISBLANK($A5),"",OFFSET(Команды!C$3,MATCH($A5,OFFSET(Команды!$F$4:$F$8,0,Площадка!$B$1),0),0)) | E5: =IF(ISBLANK($A5),"",COUNTIF(G5:AD5,"+")) | F5: =IF(COUNTIF(G5:AD5,"~?")>0,COUNTIF(G5:AD5,"~?"),"") | G5: =IF(COUNTIF(Верно!A$3:A$7,$A5)>0,"+",IF(COUNTIF(Верно!A$3:A$7,"\"&$A5)>0,"?","")) | H5: =IF(COUNTIF(Верно!B$3:B$7,$A5)>0,"+",IF(COUNTIF(Верно!B$3:B$7,"\"&$A5)>0,"?","")) | I5: =IF(COUNTIF(Верно!C$3:C$7,$A5)>0,"+",IF(COUNTIF(Верно!C$3:C$7,"\"&$A5)>0,"?","")) | J5: =IF(COUNTIF(Верно!D$3:D$7,$A5)>0,"+",IF(COUNTIF(Верно!D$3:D$7,"\"&$A5)>0,"?","")) | K5: =IF(COUNTIF(Верно!E$3:E$7,$A5)>0,"+",IF(COUNTIF(Верно!E$3:E$7,"\"&$A5)>0,"?","")) | L5: =IF(COUNTIF(Верно!F$3:F$7,$A5)>0,"+",IF(COUNTIF(Верно!F$3:F$7,"\"&$A5)>0,"?","")) | M5: =IF(COUNTIF(Верно!G$3:G$7,$A5)>0,"+",IF(COUNTIF(Верно!G$3:G$7,"\"&$A5)>0,"?","")) | N5: =IF(COUNTIF(Верно!H$3:H$7,$A5)>0,"+",IF(COUNTIF(Верно!H$3:H$7,"\"&$A5)>0,"?","")) | ... AD5: =IF(COUNTIF(Верно!X$3:X$7,$A5)>0,"+",IF(COUNTIF(Верно!X$3:X$7,"\"&$A5)>0,"?",""))
B6: =IF(ISBLANK($A6),"",OFFSET(Команды!A$3,MATCH($A6,OFFSET(Команды!$F$4:$F$8,0,Площадка!$B$1),0),0)) | C6: =IF(ISBLANK($A6),"",OFFSET(Команды!B$3,MATCH($A6,OFFSET(Команды!$F$4:$F$8,0,Площадка!$B$1),0),0)) | D6: =IF(ISBLANK($A6),"",OFFSET(Команды!C$3,MATCH($A6,OFFSET(Команды!$F$4:$F$8,0,Площадка!$B$1),0),0)) | E6: =IF(ISBLANK($A6),"",COUNTIF(G6:AD6,"+")) | F6: =IF(COUNTIF(G6:AD6,"~?")>0,COUNTIF(G6:AD6,"~?"),"") | G6: =IF(COUNTIF(Верно!A$3:A$7,$A6)>0,"+",IF(COUNTIF(Верно!A$3:A$7,"\"&$A6)>0,"?","")) | H6: =IF(COUNTIF(Верно!B$3:B$7,$A6)>0,"+",IF(COUNTIF(Верно!B$3:B$7,"\"&$A6)>0,"?","")) | I6: =IF(COUNTIF(Верно!C$3:C$7,$A6)>0,"+",IF(COUNTIF(Верно!C$3:C$7,"\"&$A6)>0,"?","")) | J6: =IF(COUNTIF(Верно!D$3:D$7,$A6)>0,"+",IF(COUNTIF(Верно!D$3:D$7,"\"&$A6)>0,"?","")) | K6: =IF(COUNTIF(Верно!E$3:E$7,$A6)>0,"+",IF(COUNTIF(Верно!E$3:E$7,"\"&$A6)>0,"?","")) | L6: =IF(COUNTIF(Верно!F$3:F$7,$A6)>0,"+",IF(COUNTIF(Верно!F$3:F$7,"\"&$A6)>0,"?","")) | M6: =IF(COUNTIF(Верно!G$3:G$7,$A6)>0,"+",IF(COUNTIF(Верно!G$3:G$7,"\"&$A6)>0,"?","")) | N6: =IF(COUNTIF(Верно!H$3:H$7,$A6)>0,"+",IF(COUNTIF(Верно!H$3:H$7,"\"&$A6)>0,"?","")) | ... AD6: =IF(COUNTIF(Верно!X$3:X$7,$A6)>0,"+",IF(COUNTIF(Верно!X$3:X$7,"\"&$A6)>0,"?",""))
B7: =IF(ISBLANK($A7),"",OFFSET(Команды!A$3,MATCH($A7,OFFSET(Команды!$F$4:$F$8,0,Площадка!$B$1),0),0)) | C7: =IF(ISBLANK($A7),"",OFFSET(Команды!B$3,MATCH($A7,OFFSET(Команды!$F$4:$F$8,0,Площадка!$B$1),0),0)) | D7: =IF(ISBLANK($A7),"",OFFSET(Команды!C$3,MATCH($A7,OFFSET(Команды!$F$4:$F$8,0,Площадка!$B$1),0),0)) | E7: =IF(ISBLANK($A7),"",COUNTIF(G7:AD7,"+")) | F7: =IF(COUNTIF(G7:AD7,"~?")>0,COUNTIF(G7:AD7,"~?"),"") | G7: =IF(COUNTIF(Верно!A$3:A$7,$A7)>0,"+",IF(COUNTIF(Верно!A$3:A$7,"\"&$A7)>0,"?","")) | H7: =IF(COUNTIF(Верно!B$3:B$7,$A7)>0,"+",IF(COUNTIF(Верно!B$3:B$7,"\"&$A7)>0,"?","")) | I7: =IF(COUNTIF(Верно!C$3:C$7,$A7)>0,"+",IF(COUNTIF(Верно!C$3:C$7,"\"&$A7)>0,"?","")) | J7: =IF(COUNTIF(Верно!D$3:D$7,$A7)>0,"+",IF(COUNTIF(Верно!D$3:D$7,"\"&$A7)>0,"?","")) | K7: =IF(COUNTIF(Верно!E$3:E$7,$A7)>0,"+",IF(COUNTIF(Верно!E$3:E$7,"\"&$A7)>0,"?","")) | L7: =IF(COUNTIF(Верно!F$3:F$7,$A7)>0,"+",IF(COUNTIF(Верно!F$3:F$7,"\"&$A7)>0,"?","")) | M7: =IF(COUNTIF(Верно!G$3:G$7,$A7)>0,"+",IF(COUNTIF(Верно!G$3:G$7,"\"&$A7)>0,"?","")) | N7: =IF(COUNTIF(Верно!H$3:H$7,$A7)>0,"+",IF(COUNTIF(Верно!H$3:H$7,"\"&$A7)>0,"?","")) | ... AD7: =IF(COUNTIF(Верно!X$3:X$7,$A7)>0,"+",IF(COUNTIF(Верно!X$3:X$7,"\"&$A7)>0,"?",""))
B8: =IF(ISBLANK($A8),"",OFFSET(Команды!A$3,MATCH($A8,OFFSET(Команды!$F$4:$F$8,0,Площадка!$B$1),0),0)) | C8: =IF(ISBLANK($A8),"",OFFSET(Команды!B$3,MATCH($A8,OFFSET(Команды!$F$4:$F$8,0,Площадка!$B$1),0),0)) | D8: =IF(ISBLANK($A8),"",OFFSET(Команды!C$3,MATCH($A8,OFFSET(Команды!$F$4:$F$8,0,Площадка!$B$1),0),0)) | E8: =IF(ISBLANK($A8),"",COUNTIF(G8:AD8,"+")) | F8: =IF(COUNTIF(G8:AD8,"~?")>0,COUNTIF(G8:AD8,"~?"),"") | G8: =IF(COUNTIF(Верно!A$3:A$7,$A8)>0,"+",IF(COUNTIF(Верно!A$3:A$7,"\"&$A8)>0,"?","")) | H8: =IF(COUNTIF(Верно!B$3:B$7,$A8)>0,"+",IF(COUNTIF(Верно!B$3:B$7,"\"&$A8)>0,"?","")) | I8: =IF(COUNTIF(Верно!C$3:C$7,$A8)>0,"+",IF(COUNTIF(Верно!C$3:C$7,"\"&$A8)>0,"?","")) | J8: =IF(COUNTIF(Верно!D$3:D$7,$A8)>0,"+",IF(COUNTIF(Верно!D$3:D$7,"\"&$A8)>0,"?","")) | K8: =IF(COUNTIF(Верно!E$3:E$7,$A8)>0,"+",IF(COUNTIF(Верно!E$3:E$7,"\"&$A8)>0,"?","")) | L8: =IF(COUNTIF(Верно!F$3:F$7,$A8)>0,"+",IF(COUNTIF(Верно!F$3:F$7,"\"&$A8)>0,"?","")) | M8: =IF(COUNTIF(Верно!G$3:G$7,$A8)>0,"+",IF(COUNTIF(Верно!G$3:G$7,"\"&$A8)>0,"?","")) | N8: =IF(COUNTIF(Верно!H$3:H$7,$A8)>0,"+",IF(COUNTIF(Верно!H$3:H$7,"\"&$A8)>0,"?","")) | ... AD8: =IF(COUNTIF(Верно!X$3:X$7,$A8)>0,"+",IF(COUNTIF(Верно!X$3:X$7,"\"&$A8)>0,"?",""))

Sheet Верно
A1: =COUNTA(A$3:A$7) -> 0 | B1: =COUNTA(B$3:B$7) -> 0 | C1: =COUNTA(C$3:C$7) -> 0 | D1: =COUNTA(D$3:D$7) -> 0 | E1: =COUNTA(E$3:E$7) -> 0 | F1: =COUNTA(F$3:F$7) -> 0 | G1: =COUNTA(G$3:G$7) -> 0 | H1: =COUNTA(H$3:H$7) -> 0 | ... X1: =COUNTA(X$3:X$7) -> 0
A2: 1 | B2: 2 | C2: 3 | D2: 4 | E2: 5 | F2: 6 | G2: 7 | H2: 8 | I2: 9 | J2: 10 | K2: 11 | L2: 12 | M2: 13 | N2: 14 | O2: 15 | P2: 16 | Q2: 17 | R2: 18 | S2: 19 | T2: 20 | U2: 21 | V2: 22 | W2: 23 | X2: 24

Sheet Ответы
A1: Номер | B1: Код | C1: Ответ 1 | D1: Ответ 2 | E1: Ответ 3 | F1: Ответ 4 | G1: Ответ 5 | H1: Ответ 6 | I1: Ответ 7 | J1: Ответ 8 | K1: Ответ 9 | L1: Ответ 10 | M1: Ответ 11 | N1: Ответ 12 | O1: Ответ 13 | P1: Ответ 14 | Q1: Ответ 15 | R1: Ответ 16 | S1: Ответ 17 | T1: Ответ 18 | U1: Ответ 19 | V1: Ответ 20 | W1: Ответ 21 | X1: Ответ 22 | Y1: Ответ 23 | Z1: Ответ 24
B2: =IF(ISBLANK($A2),"",OFFSET(Команды!A$3,MATCH($A2,OFFSET(Команды!$F$4:$F$8,0,Площадка!$B$1),0),0))
B3: =IF(ISBLANK($A3),"",OFFSET(Команды!A$3,MATCH($A3,OFFSET(Команды!$F$4:$F$8,0,Площадка!$B$1),0),0))
B4: =IF(ISBLANK($A4),"",OFFSET(Команды!A$3,MATCH($A4,OFFSET(Команды!$F$4:$F$8,0,Площадка!$B$1),0),0))
B5: =IF(ISBLANK($A5),"",OFFSET(Команды!A$3,MATCH($A5,OFFSET(Команды!$F$4:$F$8,0,Площадка!$B$1),0),0))
B6: =IF(ISBLANK($A6),"",OFFSET(Команды!A$3,MATCH($A6,OFFSET(Команды!$F$4:$F$8,0,Площадка!$B$1),0),0))

Sheet Апелляции
A1: Вопрос | B1: Авторский ответ | C1: Ответ команды | D1: Тип | E1: Текст
